BEGIN:VCALENDAR
VERSION:2.0
PRODID:-//wp-events-plugin.com//7.2.3.1//EN
TZID:Europe/Berlin
X-WR-TIMEZONE:Europe/Berlin
BEGIN:VEVENT
UID:244@eesi-impulszentrum.at
DTSTART;TZID=Europe/Berlin:20190424T133000
DTEND;TZID=Europe/Berlin:20190424T153000
DTSTAMP:20180915T154552Z
URL:https://www.eesi-impulszentrum.at/events/ideen-fuer-europa-diskutieren
 -5/
SUMMARY:Ideen für Europa diskutieren
DESCRIPTION:Nr. 8730.000.058 Unternehmergeist macht Schule (47) inkl. Debat
 tiertraining\nWarum Zuhören wichtig und Anders sein wunderbar ist.\nImpul
 sspeaker: Susanne Scholl\, Journalistin und Schriftstellerin\,\nlangjähri
 ge ORF-Korrespondentin
CATEGORIES:Debattierclub
LOCATION:KPH Wien/Krems\, Bildungszentrum Stephansplatz\, Singerstraße 7 /
  Stiege 4\, Wien\, 1010\, Österreich
GEO:48.2074433;16.373742900000025
X-APPLE-STRUCTURED-LOCATION;VALUE=URI;X-ADDRESS=Singerstraße 7 / Stiege 4\
 , Wien\, 1010\, Österreich;X-APPLE-RADIUS=100;X-TITLE=KPH Wien/Krems\, Bi
 ldungszentrum Stephansplatz:geo:48.2074433,16.373742900000025
END:VEVENT
BEGIN:VTIMEZONE
TZID:Europe/Berlin
X-LIC-LOCATION:Europe/Berlin
BEGIN:DAYLIGHT
DTSTART:20190331T030000
TZOFFSETFROM:+0100
TZOFFSETTO:+0200
TZNAME:CEST
END:DAYLIGHT
END:VTIMEZONE
END:VCALENDAR