BEGIN:VCALENDAR
VERSION:2.0
PRODID:-//wp-events-plugin.com//7.2.3.1//EN
TZID:Europe/Berlin
X-WR-TIMEZONE:Europe/Berlin
BEGIN:VEVENT
UID:412@eesi-impulszentrum.at
DTSTART;TZID=Europe/Berlin:20221121T103000
DTEND;TZID=Europe/Berlin:20221121T123000
DTSTAMP:20221112T063443Z
URL:https://www.eesi-impulszentrum.at/events/hofer-human-recourses-zu-gast
 -in-der-johak/
SUMMARY:Hofer Human-Recourses zu Gast in der johak
DESCRIPTION:In diesem Workshop für die 5. Jahrgänge geht es um einen tief
 eren Einblick in das allgegenwärtige Unternehmen "Hofer"\, den Karrierech
 ancen für Absolventen in diesem Unternehmen und um Tipps und Wege zur erf
 olgreichen Bewerbung im Allgemeinen und beim Unternehmen "Hofer" im Spezie
 llen.\n\n&nbsp\;
CATEGORIES:Global Entrepreneurship Week
LOCATION:BHAK/BHAS St. Johann im Pongau\, Alte Bundesstraße 11\, St. Johan
 n/Pg.\, 5600\, Österreich
GEO:47.357475;13.205823
X-APPLE-STRUCTURED-LOCATION;VALUE=URI;X-ADDRESS=Alte Bundesstraße 11\, St.
  Johann/Pg.\, 5600\, Österreich;X-APPLE-RADIUS=100;X-TITLE=BHAK/BHAS St. 
 Johann im Pongau:geo:47.357475,13.205823
END:VEVENT
BEGIN:VTIMEZONE
TZID:Europe/Berlin
X-LIC-LOCATION:Europe/Berlin
BEGIN:STANDARD
DTSTART:20221030T020000
TZOFFSETFROM:+0200
TZOFFSETTO:+0100
TZNAME:CET
END:STANDARD
END:VTIMEZONE
END:VCALENDAR