BEGIN:VCALENDAR
VERSION:2.0
PRODID:-//wp-events-plugin.com//7.2.3.1//EN
TZID:Europe/Berlin
X-WR-TIMEZONE:Europe/Berlin
BEGIN:VEVENT
UID:408@eesi-impulszentrum.at
DTSTART;TZID=Europe/Berlin:20221104T083000
DTEND;TZID=Europe/Berlin:20221104T133000
DTSTAMP:20221101T083057Z
URL:https://www.eesi-impulszentrum.at/events/hak-weiz-meets-praxis-recruit
 ing-und-unternehmerinnentag/
SUMMARY:"HAK WEIZ meets... Praxis"  - Recruiting- und Unternehmer*innentag
DESCRIPTION:"HAK WEIZ meets... Praxis" - Recruiting- und Unternehmer*innent
 ag an der HAK Weiz\n\nIm Rahmen unserer Entrepreneurship-Tätigkeiten vera
 nstalten wir heuer wieder einen Unternehmer*innen-Tag.\nÄhnlich einer Mes
 se präsentieren die 23 teilnehmenden Unternehmer*innen unseren Schüler*i
 nnen der 2. bis 5. Jahrgänge und Klassen Ihr Unternehmen und die Schüler
 *innen  haben die Gelegenheit\, ihre in verschiedenen Unterrichtsgegenst
 änden erarbeitenden Fragen aktiv zu stellen.\n\nSo gewinnen unsere Schül
 er*innen an einem Tag wertvolle Praxiseinblicke in verschiedene Unternehme
 n und Branchen\, andererseits wollen wir aber auch unseren Patenfirmen und
  Unternehmen der Region die Gelegenheit  geben\, sich als potentielle Arb
 eitgeber*innen vorzustellen.\n\nParallel zur Unternehmensmesse finden 11 V
 orträge für unsere Schüler*innen zu diversen praxisrelevanten Themen st
 att\, die von Mitarbeiter*innen der an unserem "Unternehmer*innentag" teil
 nehmenden Unternehmen gestaltet werden.\n\n&nbsp\;
CATEGORIES:Allgemein,Global Entrepreneurship Week
LOCATION:BHAK/BHAS Weiz\, dr.-karl-widdmann-straße 40\, Weiz\, 8160\, Öst
 erreich
GEO:47.224591;15.62378
X-APPLE-STRUCTURED-LOCATION;VALUE=URI;X-ADDRESS=dr.-karl-widdmann-straße 4
 0\, Weiz\, 8160\, Österreich;X-APPLE-RADIUS=100;X-TITLE=BHAK/BHAS Weiz:ge
 o:47.224591,15.62378
END:VEVENT
BEGIN:VTIMEZONE
TZID:Europe/Berlin
X-LIC-LOCATION:Europe/Berlin
BEGIN:STANDARD
DTSTART:20221030T020000
TZOFFSETFROM:+0200
TZOFFSETTO:+0100
TZNAME:CET
END:STANDARD
END:VTIMEZONE
END:VCALENDAR