BEGIN:VCALENDAR
VERSION:2.0
PRODID:-//wp-events-plugin.com//7.2.3.1//EN
TZID:Europe/Berlin
X-WR-TIMEZONE:Europe/Berlin
BEGIN:VEVENT
UID:484@eesi-impulszentrum.at
DTSTART;TZID=Europe/Berlin:20241108T083000
DTEND;TZID=Europe/Berlin:20241108T130000
DTSTAMP:20241015T064636Z
URL:https://www.eesi-impulszentrum.at/events/hak-weiz-meets-praxis-recruit
 ing-u-unternehmer-innentag/
SUMMARY:"HAK Weiz meets... Praxis" Recruiting- u. Unternehmer: innentag
DESCRIPTION:20 regionale Unternehmer:innen stellen sich den Schüler:innen 
 der 2. bis 5. HAK-Klassen und der 3. HAS-Klasse im Rahmen einer schulinter
 nen Messe vor. Die Schüler:innen können sich über verschiedene Berufsm
 öglichkeiten und Chancen nach der Reife- und Diplomprüfung bzw. Abschlus
 sprüfung informieren.  
CATEGORIES:Global Entrepreneurship Week
LOCATION:BHAK/BHAS Weiz\, dr.-karl-widdmann-straße 40\, Weiz\, 8160\, Öst
 erreich
GEO:47.224591;15.62378
X-APPLE-STRUCTURED-LOCATION;VALUE=URI;X-ADDRESS=dr.-karl-widdmann-straße 4
 0\, Weiz\, 8160\, Österreich;X-APPLE-RADIUS=100;X-TITLE=BHAK/BHAS Weiz:ge
 o:47.224591,15.62378
END:VEVENT
BEGIN:VTIMEZONE
TZID:Europe/Berlin
X-LIC-LOCATION:Europe/Berlin
BEGIN:STANDARD
DTSTART:20241027T020000
TZOFFSETFROM:+0200
TZOFFSETTO:+0100
TZNAME:CET
END:STANDARD
END:VTIMEZONE
END:VCALENDAR