BEGIN:VCALENDAR
VERSION:2.0
PRODID:-//wp-events-plugin.com//7.2.3.1//EN
TZID:Europe/Berlin
X-WR-TIMEZONE:Europe/Berlin
BEGIN:VEVENT
UID:316@eesi-impulszentrum.at
DTSTART;TZID=Europe/Berlin:20191108T080000
DTEND;TZID=Europe/Berlin:20191108T130000
DTSTAMP:20191020T201407Z
URL:https://www.eesi-impulszentrum.at/events/hak-i-business-day/
SUMMARY:HAK I Business Day
DESCRIPTION:Im Rahmen der Global Entrepreneurship Week 2019 veranstalten wi
 r am 8. November 2019 den ersten HAK I Business Day. Unter dem Motto "Get 
 in touch- Networking &amp\; Recruiting" treffen die SchülerInnen unserer 
 4. und 5. Jahrgänge Handelsakademie\, die SchülerInnen der 3. Klasse Han
 delsschule und des Kollegs auf potentielle Arbeitgeber aus dem Salzburger 
 Raum.\n\n&nbsp\;\n\n&nbsp\;\n\n&nbsp\;
CATEGORIES:Global Entrepreneurship Week
LOCATION:BHAK/BHAS Salzburg 1\, Johann-Brunauer-Straße 4\, Salzburg\, 5020
 \, Österreich
GEO:47.813637;13.034892
X-APPLE-STRUCTURED-LOCATION;VALUE=URI;X-ADDRESS=Johann-Brunauer-Straße 4\,
  Salzburg\, 5020\, Österreich;X-APPLE-RADIUS=100;X-TITLE=BHAK/BHAS Salzbu
 rg 1:geo:47.813637,13.034892
END:VEVENT
BEGIN:VTIMEZONE
TZID:Europe/Berlin
X-LIC-LOCATION:Europe/Berlin
BEGIN:STANDARD
DTSTART:20191027T020000
TZOFFSETFROM:+0200
TZOFFSETTO:+0100
TZNAME:CET
END:STANDARD
END:VTIMEZONE
END:VCALENDAR