BEGIN:VCALENDAR
VERSION:2.0
PRODID:-//wp-events-plugin.com//7.2.3.1//EN
TZID:Europe/Berlin
X-WR-TIMEZONE:Europe/Berlin
BEGIN:VEVENT
UID:260@eesi-impulszentrum.at
DTSTART;TZID=Europe/Berlin:20181114T090000
DTEND;TZID=Europe/Berlin:20181114T150000
DTSTAMP:20181113T225423Z
URL:https://www.eesi-impulszentrum.at/events/gewinnmesse/
SUMMARY:Gewinnmesse
DESCRIPTION:Alle 4. Jahrgänge der Handelsakademie besuchen die Gewinnmesse
CATEGORIES:Exkursion
LOCATION:BHAK/BHAS Wiener Neustadt\, Ungargasse 29\, Wiener Neustadt\, 2700
 \, Österreich
GEO:47.812392;16.250143
X-APPLE-STRUCTURED-LOCATION;VALUE=URI;X-ADDRESS=Ungargasse 29\, Wiener Neus
 tadt\, 2700\, Österreich;X-APPLE-RADIUS=100;X-TITLE=BHAK/BHAS Wiener Neus
 tadt:geo:47.812392,16.250143
END:VEVENT
BEGIN:VTIMEZONE
TZID:Europe/Berlin
X-LIC-LOCATION:Europe/Berlin
BEGIN:STANDARD
DTSTART:20181028T020000
TZOFFSETFROM:+0200
TZOFFSETTO:+0100
TZNAME:CET
END:STANDARD
END:VTIMEZONE
END:VCALENDAR