BEGIN:VCALENDAR
VERSION:2.0
PRODID:-//wp-events-plugin.com//7.2.3.1//EN
TZID:Europe/Berlin
X-WR-TIMEZONE:Europe/Berlin
BEGIN:VEVENT
UID:458@eesi-impulszentrum.at
DTSTART;TZID=Europe/Berlin:20240311T104000
DTEND;TZID=Europe/Berlin:20240311T121500
DTSTAMP:20240221T104032Z
URL:https://www.eesi-impulszentrum.at/events/gastvortrag-paso-a-paso/
SUMMARY:Gastvortrag "Paso a Paso"
DESCRIPTION:Der Operation Daywork Menschenrechtspreis wurde heuer an das so
 zial-pädagogische Programm PASO A PASO in Honduras verliehen.\n\nAnhand e
 ines Themenheft befassen sich die Schüler*innen der 3. Klassen sowie die 
 4A FM und die 4A WS im Unterricht mit diesem Menschenrechtspreisträger. D
 er Gästebesuch\, zu dem diese Klassen eingeladen sind\, findet am 11. Mä
 rz 2024 in der Aula unserer Schule statt.\n\n&nbsp\;\n\nHier einige Zusatz
 informationen:\n\nPaso a Paso kämpft\n- gegen das Phänomen und die Gewal
 t der Jugendbanden\, die u.a. im Drogenhandel verwickelt sind: die Kinder 
 haben einen sicheren Ort zum Spielen\, und fühlen sich einer Gruppe zugeh
 örig\, erfahren eine Bildung und die Prinzipien des Friedens und der Gewa
 ltlosigkeit\;\n- gegen das Patriarchat\, also allen Formen von Gewalt an F
 rauen: die Mütter haben die Möglichkeit eine ökonomische Autonomie zu e
 rlangen\, indem sie Essen oder von ihnen genähte Kleider\, Taschen usw. v
 erkaufen\, können aber auch durch das Zusammensein Erfahrungen austausche
 n und sich gegenseitig unterstützen\;\n- gegen die institutionelle Gewalt
 \, so z.B. die überhöhte Präsenz der Polizei neben Schulen und Spielpl
 ätzen der Rivera und das (sehr) mangelhafte öffentliche Schul- und Gesun
 dheitssystem\, welche für die Entwicklung der Bevölkerung des Stadtviert
 els als ebenso gefährlich wie die oben angeführten Formen von Gewalt bet
 rachtet werden.\n- für die Umwelt und die Rechte der indigenen Völker: G
 ewalt wird auch von den lokalen Unternehmerfamilien und den multinationale
 n Konzernen ausgeübt\, vor allem gegenüber den indigenen Völkern. Im Na
 men der „Entwicklung“ und der „Nachhaltigkeit“ wird ihnen das Land
  enzogen\, um im Küstengebiet riesige Luxus-Resorts und im Landesinneren 
 vor allem Wasserkraftwerke zu bauen. Von Entwicklung und Nachhaltigkeit bl
 eibt für die lokale Bevölkerung jedoch nichts übrig\, während die nega
 tiven Auswirkungen bedeutend sind.\nWenngleich in anderem Ausmaß\, sind e
 inige dieser Themen auch in Südtirol sehr aktuell. Dank der Erfahrung and
 erer Länder haben wir die Möglichkeit gewisse Phänomene zu analysieren 
 und die Hintergründe für deren Entstehung besser zu verstehen.
CATEGORIES:Allgemein
LOCATION:WFO "Franz Kafka" Meran\, Rennweg 3\, Meran\, IT-39012\, Italien
GEO:46.671404;11.159349
X-APPLE-STRUCTURED-LOCATION;VALUE=URI;X-ADDRESS=Rennweg 3\, Meran\, IT-3901
 2\, Italien;X-APPLE-RADIUS=100;X-TITLE=WFO \"Franz Kafka\" Meran:geo:46.67
 1404,11.159349
END:VEVENT
BEGIN:VTIMEZONE
TZID:Europe/Berlin
X-LIC-LOCATION:Europe/Berlin
BEGIN:STANDARD
DTSTART:20231029T020000
TZOFFSETFROM:+0200
TZOFFSETTO:+0100
TZNAME:CET
END:STANDARD
END:VTIMEZONE
END:VCALENDAR