BEGIN:VCALENDAR
VERSION:2.0
PRODID:-//wp-events-plugin.com//7.2.3.1//EN
TZID:Europe/Berlin
X-WR-TIMEZONE:Europe/Berlin
BEGIN:VEVENT
UID:278@eesi-impulszentrum.at
DTSTART;TZID=Europe/Berlin:20190424T170000
DTEND;TZID=Europe/Berlin:20190424T200000
DTSTAMP:20190412T091849Z
URL:https://www.eesi-impulszentrum.at/events/fest-der-ideen-ostoesterreich
 /
SUMMARY:Fest der Ideen - Ostösterreich
DESCRIPTION:Das "Fest der Ideen" für Ostösterreich findet am 24.4.\, 17:0
 0 - 20:00 Uhr statt\n\nanschl. Buffet im UniCredit Center Am Kaiserwasser\
 , Kongresszentrum\, Eiswerkstraße 20\, Wien 22 (bei der U-Bahn Station Al
 te Donau"
CATEGORIES:Allgemein
LOCATION:Uni Credit Center Am Kaiserwasser\, Eiswerkstraße 20\, Wien\, 122
 0\, Österreich
GEO:48.23294689999999;16.425374000000033
X-APPLE-STRUCTURED-LOCATION;VALUE=URI;X-ADDRESS=Eiswerkstraße 20\, Wien\, 
 1220\, Österreich;X-APPLE-RADIUS=100;X-TITLE=Uni Credit Center Am Kaiserw
 asser:geo:48.23294689999999,16.425374000000033
END:VEVENT
BEGIN:VTIMEZONE
TZID:Europe/Berlin
X-LIC-LOCATION:Europe/Berlin
BEGIN:DAYLIGHT
DTSTART:20190331T030000
TZOFFSETFROM:+0100
TZOFFSETTO:+0200
TZNAME:CEST
END:DAYLIGHT
END:VTIMEZONE
END:VCALENDAR