BEGIN:VCALENDAR
VERSION:2.0
PRODID:-//wp-events-plugin.com//7.2.3.1//EN
TZID:Europe/Berlin
X-WR-TIMEZONE:Europe/Berlin
BEGIN:VEVENT
UID:455@eesi-impulszentrum.at
DTSTART;TZID=Europe/Berlin:20240515T140000
DTEND;TZID=Europe/Berlin:20240515T170000
DTSTAMP:20240308T132842Z
URL:https://www.eesi-impulszentrum.at/events/fest-der-ideen-kaernten/
SUMMARY:Fest der Ideen Kärnten
DESCRIPTION:Das Fest der Ideen in Kärnten!\n\nPräsentation und Ehrung der
  besten Geschäftsideen und Businesspläne dieses Schuljahres aus Kärnten
 .\n\nKoordination: manuela.kleewein@hak1.at\n\nAusschreibung-Next-Generati
 on 2023_4
CATEGORIES:Allgemein
LOCATION:FH Kärnten - Villach\, Europastraße 4\, Villach\, 9524\, Österr
 eich
GEO:46.61118;13.883342
X-APPLE-STRUCTURED-LOCATION;VALUE=URI;X-ADDRESS=Europastraße 4\, Villach\,
  9524\, Österreich;X-APPLE-RADIUS=100;X-TITLE=FH Kärnten - Villach:geo:4
 6.61118,13.883342
END:VEVENT
BEGIN:VTIMEZONE
TZID:Europe/Berlin
X-LIC-LOCATION:Europe/Berlin
BEGIN:DAYLIGHT
DTSTART:20240331T030000
TZOFFSETFROM:+0100
TZOFFSETTO:+0200
TZNAME:CEST
END:DAYLIGHT
END:VTIMEZONE
END:VCALENDAR