BEGIN:VCALENDAR
VERSION:2.0
PRODID:-//wp-events-plugin.com//7.2.3.1//EN
TZID:Europe/Berlin
X-WR-TIMEZONE:Europe/Berlin
BEGIN:VEVENT
UID:212@eesi-impulszentrum.at
DTSTART;TZID=Europe/Berlin:20171113T180000
DTEND;TZID=Europe/Berlin:20171113T180000
DTSTAMP:20201123T220213Z
URL:https://www.eesi-impulszentrum.at/events/faire-und-regionale-vielfalt/
SUMMARY:Faire und regionale Vielfalt
DESCRIPTION:UnternehmerInnen und Organisationen informieren über die regio
 nale Vielfalt der Region Mistelbach im Weinviertel. Eine Veranstaltung von
  SchülerInnen und Entrepreneuren\, deren Ziel eine faire und nachhaltige 
 Tätigkeit in der Region ist. Eine Veranstaltung für SchülerInnen\, Unte
 rnehmerInnen und Interessierte\, denen die Umwelt nicht egal ist und für 
 die Eigenverantwortung und Eigeninitiative nicht nur Schlagworte sind. Mus
 ikalische Umrahmung und ein kleines Theaterstück durch SchülerInnen\, I
 mbiss: Fairtrade-Produkte. Mitveranstalter ist die Fairtrade-Gemeinde Mist
 elbach.
CATEGORIES:Global Entrepreneurship Week
LOCATION:Stadtsaal Mistelbach\, Franz Josef-Straße 43\, Mistelbach\, NÖ\,
  2130\, Österreich
GEO:48.570285;16.569402800000034
X-APPLE-STRUCTURED-LOCATION;VALUE=URI;X-ADDRESS=Franz Josef-Straße 43\, Mi
 stelbach\, NÖ\, 2130\, Österreich;X-APPLE-RADIUS=100;X-TITLE=Stadtsaal M
 istelbach:geo:48.570285,16.569402800000034
END:VEVENT
BEGIN:VTIMEZONE
TZID:Europe/Berlin
X-LIC-LOCATION:Europe/Berlin
BEGIN:STANDARD
DTSTART:20171029T020000
TZOFFSETFROM:+0200
TZOFFSETTO:+0100
TZNAME:CET
END:STANDARD
END:VTIMEZONE
END:VCALENDAR