BEGIN:VCALENDAR
VERSION:2.0
PRODID:-//wp-events-plugin.com//7.2.3.1//EN
TZID:Europe/Berlin
X-WR-TIMEZONE:Europe/Berlin
BEGIN:VEVENT
UID:309@eesi-impulszentrum.at
DTSTART;TZID=Europe/Berlin:20191007T000000
DTEND;TZID=Europe/Berlin:20191007T000000
DTSTAMP:20191006T180419Z
URL:https://www.eesi-impulszentrum.at/events/fair-naschen/
SUMMARY:Fair naschen
DESCRIPTION:In der Aula der BHAK-Eisenerz findet der traditionelle Verkauf 
 von Fair Trade Produkten statt. Damit werden Kleinbauern und der faire Han
 del unterstützt.  Die Produkte werden von Missio\, dem  päpstlichen Mi
 ssionswerk Österreichs\, bezogen und  der gesamte Erlös der verkauften 
 Produkte wird an Missio weitergeleitet.
CATEGORIES:Allgemein
LOCATION:BHAK Eisenerz\, Hieflauerstraße 89\, Eisenerz\, 8790\, Österreic
 h
GEO:47.560405;14.864678
X-APPLE-STRUCTURED-LOCATION;VALUE=URI;X-ADDRESS=Hieflauerstraße 89\, Eisen
 erz\, 8790\, Österreich;X-APPLE-RADIUS=100;X-TITLE=BHAK Eisenerz:geo:47.5
 60405,14.864678
END:VEVENT
BEGIN:VTIMEZONE
TZID:Europe/Berlin
X-LIC-LOCATION:Europe/Berlin
BEGIN:DAYLIGHT
DTSTART:20190331T030000
TZOFFSETFROM:+0100
TZOFFSETTO:+0200
TZNAME:CEST
END:DAYLIGHT
END:VTIMEZONE
END:VCALENDAR