BEGIN:VCALENDAR
VERSION:2.0
PRODID:-//wp-events-plugin.com//7.2.3.1//EN
TZID:Europe/Berlin
X-WR-TIMEZONE:Europe/Berlin
BEGIN:VEVENT
UID:540@eesi-impulszentrum.at
DTSTART;TZID=Europe/Berlin:20251016T080000
DTEND;TZID=Europe/Berlin:20251016T160000
DTSTAMP:20250924T072759Z
URL:https://www.eesi-impulszentrum.at/events/erasmus-day/
SUMMARY:Erasmus+ Day
DESCRIPTION:Am 16. Oktober 2025 findet an der BHAK/S Imst wieder der Erasmu
 s+ Day statt. Unsere Schüler:innen gestalten einen bunten Messestand und 
 zeigen ihren Mitschüler:innen mit Live Berichten\, Gesprächen und vielen
  Fotos\, was über eine Erasmus+ Förderung alles möglich ist. Sie berich
 ten über Work placements und Sprachreisen in Italien\, Frankreich und im 
 englischsprachigen Raum und informieren auch über ihre Sommerpraktika in 
 ganz Europa.
ATTACH;FMTTYPE=image/jpeg:https://www.eesi-impulszentrum.at/wp-content/upl
 oads/2025/09/Foto_Stand.jpg
CATEGORIES:Allgemein,Workshop
LOCATION:BHAK/BHAS Imst\, Landesrat-Gebhart-Straße 2\, Imst\, 6460\, Öste
 rreich
GEO:47.236982;10.74033
X-APPLE-STRUCTURED-LOCATION;VALUE=URI;X-ADDRESS=Landesrat-Gebhart-Straße 2
 \, Imst\, 6460\, Österreich;X-APPLE-RADIUS=100;X-TITLE=BHAK/BHAS Imst:geo
 :47.236982,10.74033
END:VEVENT
BEGIN:VTIMEZONE
TZID:Europe/Berlin
X-LIC-LOCATION:Europe/Berlin
BEGIN:DAYLIGHT
DTSTART:20250330T030000
TZOFFSETFROM:+0100
TZOFFSETTO:+0200
TZNAME:CEST
END:DAYLIGHT
END:VTIMEZONE
END:VCALENDAR