BEGIN:VCALENDAR
VERSION:2.0
PRODID:-//wp-events-plugin.com//7.2.3.1//EN
TZID:Europe/Berlin
X-WR-TIMEZONE:Europe/Berlin
BEGIN:VEVENT
UID:361@eesi-impulszentrum.at
DTSTART;TZID=Europe/Berlin;VALUE=DATE:20211116
DTEND;TZID=Europe/Berlin;VALUE=DATE:20211120
DTSTAMP:20210909T143940Z
URL:https://www.eesi-impulszentrum.at/events/entrepreneuship-week-hak-ybbs
 /
SUMMARY:Entrepreneuship Week HAK Ybbs
DESCRIPTION:Die Entrepreneurship Week der HAK Ybbs findet in der\nFH St. P
 ölten statt und steht unter dem Motto\n"Afrika meets Europe - Schüler*in
 nen engagieren sich für gesllschaftliche Herausforderungen"
CATEGORIES:Global Entrepreneurship Week
END:VEVENT
BEGIN:VTIMEZONE
TZID:Europe/Berlin
X-LIC-LOCATION:Europe/Berlin
BEGIN:STANDARD
DTSTART:20211031T020000
TZOFFSETFROM:+0200
TZOFFSETTO:+0100
TZNAME:CET
END:STANDARD
END:VTIMEZONE
END:VCALENDAR