BEGIN:VCALENDAR
VERSION:2.0
PRODID:-//wp-events-plugin.com//7.2.3.1//EN
TZID:Europe/Berlin
X-WR-TIMEZONE:Europe/Berlin
BEGIN:VEVENT
UID:501@eesi-impulszentrum.at
DTSTART;TZID=Europe/Berlin:20250127T000000
DTEND;TZID=Europe/Berlin:20250131T000000
DTSTAMP:20241130T194000Z
URL:https://www.eesi-impulszentrum.at/events/entrepreneurshipwoche-2025/
SUMMARY:Entrepreneurshipwoche 2025
DESCRIPTION:In dieser Woche wird jede Klasse (von der 1. bis zur 4. Stufe) 
 mit zwei bis 4 Lehrpersonen an der Umsetzung eines Projektes arbeiten. Der
  Projektinhalt ist von Klasse zu Klasse ein anderer und wird bereits im He
 rbst definiert. Im Rahmen dieser Projektarbeit können auch Lehrausgänge 
 durchgeführt werden oder externe Referenten hinzugezogen werden.\n\nZiel 
 der Entrepreneurship-Woche ist es\, den Schüler*innen die Möglichkeit zu
  geben\, ihre Selbständigkeit und Eigenverantwortung unter Beweis zu stel
 len.\n\nHinweis: Die Entrepreneurship-Woche findet bei uns aus schulorgani
 satorischen Gründen immer Ende Jänner oder Anfang Februar statt. Sie bet
 rifft alle Klassenstufen außer die 5. Klassen\, da sich diese in dieser Z
 eit im Betriebspraktikum befinden.
CATEGORIES:Global Entrepreneurship Week
LOCATION:WFO "Franz Kafka" Meran\, Rennweg 3\, Meran\, IT-39012\, Italien
GEO:46.671404;11.159349
X-APPLE-STRUCTURED-LOCATION;VALUE=URI;X-ADDRESS=Rennweg 3\, Meran\, IT-3901
 2\, Italien;X-APPLE-RADIUS=100;X-TITLE=WFO \"Franz Kafka\" Meran:geo:46.67
 1404,11.159349
END:VEVENT
BEGIN:VTIMEZONE
TZID:Europe/Berlin
X-LIC-LOCATION:Europe/Berlin
BEGIN:STANDARD
DTSTART:20241027T020000
TZOFFSETFROM:+0200
TZOFFSETTO:+0100
TZNAME:CET
END:STANDARD
END:VTIMEZONE
END:VCALENDAR