BEGIN:VCALENDAR
VERSION:2.0
PRODID:-//wp-events-plugin.com//7.2.3.1//EN
TZID:Europe/Berlin
X-WR-TIMEZONE:Europe/Berlin
BEGIN:VEVENT
UID:411@eesi-impulszentrum.at
DTSTART;TZID=Europe/Berlin;VALUE=DATE:20221108
DTEND;TZID=Europe/Berlin;VALUE=DATE:20221112
DTSTAMP:20221103T150131Z
URL:https://www.eesi-impulszentrum.at/events/entrepreneurship-week-an-der-
 bhak-eisenerz/
SUMMARY:Entrepreneurship Week an der BHAK Eisenerz
DESCRIPTION:Der zweite und dritte Jahrgang arbeitet während der Entreprene
 urshipweek an der Entwicklung eigener Geschäftsideen und wird dabei von z
 wei externen Coaches unterstützt.
CATEGORIES:Workshop
LOCATION:BHAK Eisenerz\, Hieflauerstraße 89\, Eisenerz\, 8790\, Österreic
 h
GEO:47.560405;14.864678
X-APPLE-STRUCTURED-LOCATION;VALUE=URI;X-ADDRESS=Hieflauerstraße 89\, Eisen
 erz\, 8790\, Österreich;X-APPLE-RADIUS=100;X-TITLE=BHAK Eisenerz:geo:47.5
 60405,14.864678
END:VEVENT
BEGIN:VTIMEZONE
TZID:Europe/Berlin
X-LIC-LOCATION:Europe/Berlin
BEGIN:STANDARD
DTSTART:20221030T020000
TZOFFSETFROM:+0200
TZOFFSETTO:+0100
TZNAME:CET
END:STANDARD
END:VTIMEZONE
END:VCALENDAR