BEGIN:VCALENDAR
VERSION:2.0
PRODID:-//wp-events-plugin.com//7.2.3.1//EN
TZID:Europe/Berlin
X-WR-TIMEZONE:Europe/Berlin
BEGIN:VEVENT
UID:514@eesi-impulszentrum.at
DTSTART;TZID=Europe/Berlin;VALUE=DATE:20251112
DTEND;TZID=Europe/Berlin;VALUE=DATE:20251113
DTSTAMP:20250921T092308Z
URL:https://www.eesi-impulszentrum.at/events/entrepreneurship-summit-2025/
SUMMARY:Entrepreneurship Summit 2025
DESCRIPTION:Di.\, 11.11.\,2025\, 17:00 – 20:00 Uhr\, Education Lab\, Made
 rstraße 1\, 1040 Wien\n\nMi.\, 12.11.2025\, 09:00– 17:30 Uhr\, Haus der
  Industrie\, Schwarzenbergplatz 4\, 1030 Wien\nDetails hier\n\nDer Entrepr
 eneurship Summit bietet mit Plenum und Workshops eine Plattform für Entre
 preneurship Education. Veranstalter sind die KPH Wien/Krems\, das e.e.si-I
 mpulszentrum des BMBWF und ifte.at\, in Kooperation mit dem BMB\, der Entr
 epreneurship Stiftung Berlin\, der Wiener Wirtschaftsagentur und der Wirts
 chaftskammer Österreich..
CATEGORIES:KPH Programm,Seminar,Workshop
LOCATION:Haus der Industrie\, Schwarzenbergplatz 4\, Wien\, 1030\, Österre
 ich
GEO:48.1997559;16.375778800000035
X-APPLE-STRUCTURED-LOCATION;VALUE=URI;X-ADDRESS=Schwarzenbergplatz 4\, Wien
 \, 1030\, Österreich;X-APPLE-RADIUS=100;X-TITLE=Haus der Industrie:geo:48
 .1997559,16.375778800000035
END:VEVENT
BEGIN:VTIMEZONE
TZID:Europe/Berlin
X-LIC-LOCATION:Europe/Berlin
BEGIN:STANDARD
DTSTART:20251026T020000
TZOFFSETFROM:+0200
TZOFFSETTO:+0100
TZNAME:CET
END:STANDARD
END:VTIMEZONE
END:VCALENDAR