BEGIN:VCALENDAR
VERSION:2.0
PRODID:-//wp-events-plugin.com//7.2.3.1//EN
TZID:Europe/Berlin
X-WR-TIMEZONE:Europe/Berlin
BEGIN:VEVENT
UID:344@eesi-impulszentrum.at
DTSTART;TZID=Europe/Berlin;VALUE=DATE:20201109
DTEND;TZID=Europe/Berlin;VALUE=DATE:20201111
DTSTAMP:20201125T083716Z
URL:https://www.eesi-impulszentrum.at/events/entrepreneurship-summit-2020/
SUMMARY:Entrepreneurship Summit 2020
DESCRIPTION:Inspiration Talks im Zuge der Entrepreneurship Summit 2020\n\n&
 nbsp\;\n\nalle 4. Jahrgänge der BHAK Wiener Neustadt im Zuge ihres ENWS- 
 und UNCO sowie BW-Unterrichts\n\n&nbsp\;\n\n&nbsp\;
CATEGORIES:Global Entrepreneurship Week
END:VEVENT
BEGIN:VTIMEZONE
TZID:Europe/Berlin
X-LIC-LOCATION:Europe/Berlin
BEGIN:STANDARD
DTSTART:20201025T020000
TZOFFSETFROM:+0200
TZOFFSETTO:+0100
TZNAME:CET
END:STANDARD
END:VTIMEZONE
END:VCALENDAR