BEGIN:VCALENDAR
VERSION:2.0
PRODID:-//wp-events-plugin.com//7.2.3.1//EN
TZID:Europe/Berlin
X-WR-TIMEZONE:Europe/Berlin
BEGIN:VEVENT
UID:451@eesi-impulszentrum.at
DTSTART;TZID=Europe/Berlin:20231128T180000
DTEND;TZID=Europe/Berlin:20231128T210000
DTSTAMP:20231114T135330Z
URL:https://www.eesi-impulszentrum.at/events/entrepreneurship-night-maygas
 se-business-academy/
SUMMARY:Entrepreneurship Night Maygasse Business Academy
DESCRIPTION:Absolvent:innen erklären Schüler:innen ihre Studien\, Karrier
 ewege und Jobs.\n\nhttps://www.bhakwien13.at/entrepreneurship-night-2023/
CATEGORIES:Allgemein
LOCATION:Maygasse Business Academy BHAK/BHAS Wien 13\, Maygasse 43\, Wien\,
  1130\, Österreich
GEO:48.164486;16.281488
X-APPLE-STRUCTURED-LOCATION;VALUE=URI;X-ADDRESS=Maygasse 43\, Wien\, 1130\,
  Österreich;X-APPLE-RADIUS=100;X-TITLE=Maygasse Business Academy BHAK/BHA
 S Wien 13:geo:48.164486,16.281488
END:VEVENT
BEGIN:VTIMEZONE
TZID:Europe/Berlin
X-LIC-LOCATION:Europe/Berlin
BEGIN:STANDARD
DTSTART:20231029T020000
TZOFFSETFROM:+0200
TZOFFSETTO:+0100
TZNAME:CET
END:STANDARD
END:VTIMEZONE
END:VCALENDAR