BEGIN:VCALENDAR
VERSION:2.0
PRODID:-//wp-events-plugin.com//7.2.3.1//EN
TZID:Europe/Berlin
X-WR-TIMEZONE:Europe/Berlin
BEGIN:VEVENT
UID:315@eesi-impulszentrum.at
DTSTART;TZID=Europe/Berlin:20191106T090000
DTEND;TZID=Europe/Berlin:20191106T160000
DTSTAMP:20191020T170552Z
URL:https://www.eesi-impulszentrum.at/events/entrepreneurship-landesmeiste
 rschaft/
SUMMARY:Entrepreneurship Landesmeisterschaft
DESCRIPTION:Bei der Entrepreneuship Landesmeisterschaft - erstmals in Miste
 lbach - entwickeln und präsentieren Schüler-Teams eigene Geschäftsideen
 \, die im Rahmen von den Sustainable Goals der UN entwickelt werden. Arbei
 tssprache für den gesamten Wettbewerb ist Englisch. Den Abschluss bildet 
 eine Präsentation und Diskussion vor einer Jury. Das Siegerteam vertritt 
 Niederösterreich bei den EE-Staatsmeisterschaften und hat damit die Chanc
 e\, Österreich bei den EUROSkills 2020 in Graz zu vertreten.
CATEGORIES:Global Entrepreneurship Week
LOCATION:BHAK/BHAS Mistelbach\, Brennerweg 8\, Mistelbach\, 2130\, Österre
 ich
GEO:48.571182;16.5653
X-APPLE-STRUCTURED-LOCATION;VALUE=URI;X-ADDRESS=Brennerweg 8\, Mistelbach\,
  2130\, Österreich;X-APPLE-RADIUS=100;X-TITLE=BHAK/BHAS Mistelbach:geo:48
 .571182,16.5653
END:VEVENT
BEGIN:VTIMEZONE
TZID:Europe/Berlin
X-LIC-LOCATION:Europe/Berlin
BEGIN:STANDARD
DTSTART:20191027T020000
TZOFFSETFROM:+0200
TZOFFSETTO:+0100
TZNAME:CET
END:STANDARD
END:VTIMEZONE
END:VCALENDAR