BEGIN:VCALENDAR
VERSION:2.0
PRODID:-//wp-events-plugin.com//7.2.3.1//EN
TZID:Europe/Berlin
X-WR-TIMEZONE:Europe/Berlin
BEGIN:VEVENT
UID:215@eesi-impulszentrum.at
DTSTART;TZID=Europe/Berlin:20171025T130000
DTEND;TZID=Europe/Berlin:20171025T153000
DTSTAMP:20171027T141216Z
URL:https://www.eesi-impulszentrum.at/events/entrepreneurship-education-ak
 tuelles-schilf-bhakbhas-oberwart/
SUMMARY:Entrepreneurship Education (Aktuelles SchilF)\, BHAK/BHAS Oberwart
DESCRIPTION:Im Rahmen eines SchilF wurden alle Lehrer/innen und Lehrer übe
 r Methoden und Unterrichtsmaterialien (z.B. im Rahmen des Youth start Proj
 ektes) für die Umsetzung der Entrepreneurship Education in ihrem Unterric
 ht informiert.Außerdem wurden verschiedene Bewerbe und Aktivitäten sowie
  Weiterbildungsmöglichkeiten vorgestellt.\n\nReferentinnen: Mag. Inge Koc
 h-Polagnoli und MMag. Beate Tötterström - eesi Impulszentrum Wien
CATEGORIES:SchilF
LOCATION:BHAK/BHAS Oberwart\, Schulgasse 2-4\, Oberwart\, Burgenland\, 7400
 \, Österreich
GEO:47.286847;16.212414
X-APPLE-STRUCTURED-LOCATION;VALUE=URI;X-ADDRESS=Schulgasse 2-4\, Oberwart\,
  Burgenland\, 7400\, Österreich;X-APPLE-RADIUS=100;X-TITLE=BHAK/BHAS Ober
 wart:geo:47.286847,16.212414
END:VEVENT
BEGIN:VTIMEZONE
TZID:Europe/Berlin
X-LIC-LOCATION:Europe/Berlin
BEGIN:DAYLIGHT
DTSTART:20170326T030000
TZOFFSETFROM:+0100
TZOFFSETTO:+0200
TZNAME:CEST
END:DAYLIGHT
END:VTIMEZONE
END:VCALENDAR