BEGIN:VCALENDAR
VERSION:2.0
PRODID:-//wp-events-plugin.com//7.2.3.1//EN
TZID:Europe/Berlin
X-WR-TIMEZONE:Europe/Berlin
BEGIN:VEVENT
UID:306@eesi-impulszentrum.at
DTSTART;TZID=Europe/Berlin:20191122T090000
DTEND;TZID=Europe/Berlin:20191122T120000
DTSTAMP:20191004T091430Z
URL:https://www.eesi-impulszentrum.at/events/entrepreneurship-day-sustaina
 ble-entrepreneurship/
SUMMARY:Entrepreneurship Day/Sustainable Entrepreneurship
DESCRIPTION:Titel: Sustainable Entrepreneurship\n\n 	Einstieg mit einem Key
  Note zu diesem Thema (1.-5. Jg.)\n 	Workshops (Rotation) mit regionalen J
 ungunternehmerInnen zum Thema (1.-5. Jg.)\n 	Abschließende Podiumsdiskuss
 ion (3.-5. Jg.)\n\n&nbsp\;
CATEGORIES:Global Entrepreneurship Week
LOCATION:BHAK/BHAS Oberwart\, Schulgasse 2-4\, Oberwart\, Burgenland\, 7400
 \, Österreich
GEO:47.286847;16.212414
X-APPLE-STRUCTURED-LOCATION;VALUE=URI;X-ADDRESS=Schulgasse 2-4\, Oberwart\,
  Burgenland\, 7400\, Österreich;X-APPLE-RADIUS=100;X-TITLE=BHAK/BHAS Ober
 wart:geo:47.286847,16.212414
END:VEVENT
BEGIN:VTIMEZONE
TZID:Europe/Berlin
X-LIC-LOCATION:Europe/Berlin
BEGIN:STANDARD
DTSTART:20191027T020000
TZOFFSETFROM:+0200
TZOFFSETTO:+0100
TZNAME:CET
END:STANDARD
END:VTIMEZONE
END:VCALENDAR