BEGIN:VCALENDAR
VERSION:2.0
PRODID:-//wp-events-plugin.com//7.2.3.1//EN
TZID:Europe/Berlin
X-WR-TIMEZONE:Europe/Berlin
BEGIN:VEVENT
UID:378@eesi-impulszentrum.at
DTSTART;TZID=Europe/Berlin:20211118T093000
DTEND;TZID=Europe/Berlin:20211118T132000
DTSTAMP:20211104T184552Z
URL:https://www.eesi-impulszentrum.at/events/entrepreneurship-day-initiier
 ung-einer-klassenpartnerschaft-als-beitrag-zum-entrepreneurship-month/
SUMMARY:Entrepreneurship Day &amp\; Initiierung einer Klassenpartnerschaft 
 als Beitrag zum Entrepreneurship Month
DESCRIPTION:Klassenpartnerschaft übernimmt Lena Giermair\, Geschäftsführ
 erin und Gesellschafterin von:\n\nBetterByNature Naturprodukte GmbH: Herst
 ellung und Handel von hochwertigen natürlichen Produkten im Bereich Nahru
 ngsmittelergänzung\n\nEntrepreneurship Day der 1. HAK: Donnerstag\, 18.11
 .2021 \n\nAblauf und Dauer: 2.-6. Stunde\n\n\n\nZeit\nLehrkräfte\nInhalt
 e\n\n\n3. + 4. Std.\nPER_P\n\nSpäth\nAktivierung und Einstieg in die EE m
 it EESI Film\, Input geben: Was ist EESI? Aktivierende Übungen\n\nBesuch 
 der Klassenpartnerin Lena Giermair:\n\n·         Vorstellung der 
 Partnerin und Präsentation der Firma\n\n·         Werdegang\n\n
 ·         Werte\, Ziele der Entrepreneurin\n\n·         
 SuS stellen Fragen (vorbereitet in BW)\n\n·         SuS sollen ih
 re Erwartungen an Lena G. als Firmenpartnerin formulieren (BW) und sich se
 lbst mit ein bis zwei Sätzen vorstellen (D)\n\n\n5. + 6. Std\nStern\n\nSt
 ern\nTrading Game (Vorbereitung in BW)\n\nNachbereitung des Tages\n\nErste
 llen von Mindmaps in Vierergruppen:\n\n·         Was ist Entrepre
 neurship/\n\n·         fächerübergreifender Aspekt soll erarbei
 tet werden\n\n·         welche Aspekte des Unterrichts sind wicht
 ig für EE\n\n&nbsp\;\n\n\n\n&nbsp\;
CATEGORIES:Global Entrepreneurship Week
LOCATION:BHAK Eisenerz\, Hieflauerstraße 89\, Eisenerz\, 8790\, Österreic
 h
GEO:47.560405;14.864678
X-APPLE-STRUCTURED-LOCATION;VALUE=URI;X-ADDRESS=Hieflauerstraße 89\, Eisen
 erz\, 8790\, Österreich;X-APPLE-RADIUS=100;X-TITLE=BHAK Eisenerz:geo:47.5
 60405,14.864678
END:VEVENT
BEGIN:VTIMEZONE
TZID:Europe/Berlin
X-LIC-LOCATION:Europe/Berlin
BEGIN:STANDARD
DTSTART:20211031T020000
TZOFFSETFROM:+0200
TZOFFSETTO:+0100
TZNAME:CET
END:STANDARD
END:VTIMEZONE
END:VCALENDAR