BEGIN:VCALENDAR
VERSION:2.0
PRODID:-//wp-events-plugin.com//7.2.3.1//EN
TZID:Europe/Berlin
X-WR-TIMEZONE:Europe/Berlin
BEGIN:VEVENT
UID:373@eesi-impulszentrum.at
DTSTART;TZID=Europe/Berlin:20211214T075000
DTEND;TZID=Europe/Berlin:20211214T111500
DTSTAMP:20211010T144110Z
URL:https://www.eesi-impulszentrum.at/events/entrepreneurship-day-fuer-all
 e-1-klassen-2/
SUMMARY:Entrepreneurship-Day für alle 1. Klassen
DESCRIPTION:Entrepreneurship-Day für alle 1. Klassen an der WFO Bruneck:\n
 \n 	Einführung durch den Koordinator Martin Winkler\n 	Trading Game in de
 n einzelnen Klassen mit den Lehrpersonen der Klasse\n 	Erstellung Mindmap 
 mit den Lehrpersonen der Klasse\n 	Gespräch mit einem Unternehmer\n\n&nbs
 p\;
CATEGORIES:Allgemein
LOCATION:WFO Bruneck und Innichen\, Josef-Ferrari-Straße 12\, Bruneck\, IT
 -39031\, Österreich
GEO:46.79027;11.93236
X-APPLE-STRUCTURED-LOCATION;VALUE=URI;X-ADDRESS=Josef-Ferrari-Straße 12\, 
 Bruneck\, IT-39031\, Österreich;X-APPLE-RADIUS=100;X-TITLE=WFO Bruneck un
 d Innichen:geo:46.79027,11.93236
END:VEVENT
BEGIN:VTIMEZONE
TZID:Europe/Berlin
X-LIC-LOCATION:Europe/Berlin
BEGIN:STANDARD
DTSTART:20211031T020000
TZOFFSETFROM:+0200
TZOFFSETTO:+0100
TZNAME:CET
END:STANDARD
END:VTIMEZONE
END:VCALENDAR