BEGIN:VCALENDAR
VERSION:2.0
PRODID:-//wp-events-plugin.com//7.2.3.1//EN
TZID:Europe/Berlin
X-WR-TIMEZONE:Europe/Berlin
BEGIN:VEVENT
UID:508@eesi-impulszentrum.at
DTSTART;TZID=Europe/Berlin:20250411T080000
DTEND;TZID=Europe/Berlin:20250411T130000
DTSTAMP:20250130T132626Z
URL:https://www.eesi-impulszentrum.at/events/entrepreneurship-day-4/
SUMMARY:Entrepreneurship-Day
DESCRIPTION:Entrepreneurship-Day in den 2.HAK- und HAS-Klassen\n\nTrading G
 ame mit Auswertung - Mindmap - Unternehmerbesuche in den Klassen - Come To
 gether im LIZ der Schule - Was ist ein Entrepreneur/ Social Entrepreneur -
  Impulsvortrag einer Social Entrepreneurin als Vereinsgründerin und Unter
 nehmerin eines Produktionsbetriebs mit Mitarbeitern mit Behinderung
CATEGORIES:Allgemein
LOCATION:BHAK/BHAS Krems\, Langenloiser Str. 22a\, Krems\, 3500\, Österrei
 ch
GEO:48.414554;15.609308
X-APPLE-STRUCTURED-LOCATION;VALUE=URI;X-ADDRESS=Langenloiser Str. 22a\, Kre
 ms\, 3500\, Österreich;X-APPLE-RADIUS=100;X-TITLE=BHAK/BHAS Krems:geo:48.
 414554,15.609308
END:VEVENT
BEGIN:VTIMEZONE
TZID:Europe/Berlin
X-LIC-LOCATION:Europe/Berlin
BEGIN:DAYLIGHT
DTSTART:20250330T030000
TZOFFSETFROM:+0100
TZOFFSETTO:+0200
TZNAME:CEST
END:DAYLIGHT
END:VTIMEZONE
END:VCALENDAR