BEGIN:VCALENDAR
VERSION:2.0
PRODID:-//wp-events-plugin.com//7.2.3.1//EN
TZID:Europe/Berlin
X-WR-TIMEZONE:Europe/Berlin
BEGIN:VEVENT
UID:443@eesi-impulszentrum.at
DTSTART;TZID=Europe/Berlin:20221118T080000
DTEND;TZID=Europe/Berlin:20221118T133000
DTSTAMP:20240304T065424Z
URL:https://www.eesi-impulszentrum.at/events/entrepreneurship-day-1ak-1as/
SUMMARY:Entrepreneurship Day 1AK/1AS
DESCRIPTION:
CATEGORIES:Allgemein
LOCATION:BHAK/BHAS Deutschlandsberg\, Lagergasse 11\, Deutschlandsberg\, 85
 30 \, Österreich
GEO:46.821176;15.223621
X-APPLE-STRUCTURED-LOCATION;VALUE=URI;X-ADDRESS=Lagergasse 11\, Deutschland
 sberg\, 8530 \, Österreich;X-APPLE-RADIUS=100;X-TITLE=BHAK/BHAS Deutschla
 ndsberg:geo:46.821176,15.223621
END:VEVENT
BEGIN:VTIMEZONE
TZID:Europe/Berlin
X-LIC-LOCATION:Europe/Berlin
BEGIN:STANDARD
DTSTART:20221030T020000
TZOFFSETFROM:+0200
TZOFFSETTO:+0100
TZNAME:CET
END:STANDARD
END:VTIMEZONE
END:VCALENDAR