BEGIN:VCALENDAR
VERSION:2.0
PRODID:-//wp-events-plugin.com//7.2.3.1//EN
TZID:Europe/Berlin
X-WR-TIMEZONE:Europe/Berlin
BEGIN:VEVENT
UID:366@eesi-impulszentrum.at
DTSTART;TZID=Europe/Berlin:20211014T160000
DTEND;TZID=Europe/Berlin:20211014T173000
DTSTAMP:20211014T092615Z
URL:https://www.eesi-impulszentrum.at/events/eesi-bundesweites-online-meet
 ing/
SUMMARY:EESI bundesweites Online-Meeting
DESCRIPTION:Themen: Entrepreneurship-Woche\, Zertifizierung\, Angebote der 
 EE\n\nLINK https://us02web.zoom.us/j/88627503152?pwd=Yk1GNmtmRnpHK3hWNllKW
 FQvbDhNUT09\n\nMeeting-ID: 886 2750 3152 &amp\; Kenncode: 680889\n\n(1) Al
 lgemeiner Teil:\n\nFeiern der Erfolg bei Euroskills in Graz - Landesmeiste
 rschaft &amp\; Staatsmeisterschaft 2022\n\nAusblick zum Bundesfinale NEXT 
 GENERATION 15. Jahre und Entrepreneurship Summit am 9.11. &amp\; 10.11. &a
 mp\; Jahresplan für Entrepreneurship für Euch.  Mit Inge\, Markus\, Kar
 in\, Petra\, Martin und Johannes\n\n(2) Themen &amp\; Bundesländer-Teil i
 n eigenen Räumen\n\nFür die Humanberuflichen Schulen mit David\, für Bu
 rgenland\, Salzburg…
CATEGORIES:Seminar
END:VEVENT
BEGIN:VTIMEZONE
TZID:Europe/Berlin
X-LIC-LOCATION:Europe/Berlin
BEGIN:DAYLIGHT
DTSTART:20210328T030000
TZOFFSETFROM:+0100
TZOFFSETTO:+0200
TZNAME:CEST
END:DAYLIGHT
END:VTIMEZONE
END:VCALENDAR