BEGIN:VCALENDAR
VERSION:2.0
PRODID:-//wp-events-plugin.com//7.2.3.1//EN
TZID:Europe/Berlin
X-WR-TIMEZONE:Europe/Berlin
BEGIN:VEVENT
UID:365@eesi-impulszentrum.at
DTSTART;TZID=Europe/Berlin;VALUE=DATE:20210916
DTEND;TZID=Europe/Berlin;VALUE=DATE:20210918
DTSTAMP:20210901T152222Z
URL:https://www.eesi-impulszentrum.at/events/eesi-bundeskoordinatoren-tref
 fen/
SUMMARY:EESI Bundeskoordinatoren Treffen
DESCRIPTION:16.9.2021 10:00 - 20:00 Uhr\n\n17.9.2021 09:00 - 14:00 Uhr
CATEGORIES:Dienstbesprechung
LOCATION:tribe.space\, Kandlg. 19-21\, Wien\, 1070\, Österreich
GEO:48.202688;16.342012
X-APPLE-STRUCTURED-LOCATION;VALUE=URI;X-ADDRESS=Kandlg. 19-21\, Wien\, 1070
 \, Österreich;X-APPLE-RADIUS=100;X-TITLE=tribe.space:geo:48.202688,16.342
 012
END:VEVENT
BEGIN:VTIMEZONE
TZID:Europe/Berlin
X-LIC-LOCATION:Europe/Berlin
BEGIN:DAYLIGHT
DTSTART:20210328T030000
TZOFFSETFROM:+0100
TZOFFSETTO:+0200
TZNAME:CEST
END:DAYLIGHT
END:VTIMEZONE
END:VCALENDAR