BEGIN:VCALENDAR
VERSION:2.0
PRODID:-//wp-events-plugin.com//7.2.3.1//EN
TZID:Europe/Berlin
X-WR-TIMEZONE:Europe/Berlin
BEGIN:VEVENT
UID:419@eesi-impulszentrum.at
DTSTART;TZID=Europe/Berlin:20230503T170000
DTEND;TZID=Europe/Berlin:20230503T180000
DTSTAMP:20230118T164246Z
URL:https://www.eesi-impulszentrum.at/events/eesi-bund-meeting-2/
SUMMARY:eesi BUND Meeting
DESCRIPTION:online
CATEGORIES:Meeting intern
END:VEVENT
BEGIN:VTIMEZONE
TZID:Europe/Berlin
X-LIC-LOCATION:Europe/Berlin
BEGIN:DAYLIGHT
DTSTART:20230326T030000
TZOFFSETFROM:+0100
TZOFFSETTO:+0200
TZNAME:CEST
END:DAYLIGHT
END:VTIMEZONE
END:VCALENDAR