BEGIN:VCALENDAR
VERSION:2.0
PRODID:-//wp-events-plugin.com//7.2.3.1//EN
TZID:Europe/Berlin
X-WR-TIMEZONE:Europe/Berlin
BEGIN:VEVENT
UID:424@eesi-impulszentrum.at
DTSTART;TZID=Europe/Berlin:20231116T090000
DTEND;TZID=Europe/Berlin:20231116T173000
DTSTAMP:20231024T161603Z
URL:https://www.eesi-impulszentrum.at/events/ee-summit-2023-main-event/
SUMMARY:EE-Summit 2023 main event
DESCRIPTION:Hauptevent des Entrepreneurship Summits\n\nWien\n\nDer Entrepre
 neurship Summit bietet mit Plenum und Workshops eine Plattform für Entrep
 reneurship Education. Veranstalter sind die KPH Wien/Krems\, das e.e.si-Im
 pulszentrum des BMBWF und ifte.at\, in Kooperation mit dem BMBWF\, der Ind
 ustriellenvereinigung\, der Entrepreneurship Stiftung Berlin\, der Wiener 
 Wirtschaftsagentur und der Arbeiterkammer Wien.
CATEGORIES:Global Entrepreneurship Week,Seminar,Workshop
LOCATION:TGA Wien\, Plößlgasse 13\, Wien\, 1040\, Österreich
GEO:48.1938497;16.37499379999997
X-APPLE-STRUCTURED-LOCATION;VALUE=URI;X-ADDRESS=Plößlgasse 13\, Wien\, 10
 40\, Österreich;X-APPLE-RADIUS=100;X-TITLE=TGA Wien:geo:48.1938497,16.374
 99379999997
END:VEVENT
BEGIN:VTIMEZONE
TZID:Europe/Berlin
X-LIC-LOCATION:Europe/Berlin
BEGIN:STANDARD
DTSTART:20231029T020000
TZOFFSETFROM:+0200
TZOFFSETTO:+0100
TZNAME:CET
END:STANDARD
END:VTIMEZONE
END:VCALENDAR