BEGIN:VCALENDAR
VERSION:2.0
PRODID:-//wp-events-plugin.com//7.2.3.1//EN
TZID:Europe/Berlin
X-WR-TIMEZONE:Europe/Berlin
BEGIN:VEVENT
UID:362@eesi-impulszentrum.at
DTSTART;TZID=Europe/Berlin;VALUE=DATE:20211109
DTEND;TZID=Europe/Berlin;VALUE=DATE:20211111
DTSTAMP:20211020T071637Z
URL:https://www.eesi-impulszentrum.at/events/ee-summit-2021/
SUMMARY:EE-Summit 2021
DESCRIPTION:9.11.2021  09:00 - 13:00\nEntrepreneurial Journey: Entrepreneu
 rship Education Angebote | digital |\n\n9.11.2021  17:00 - 20:00\nPrämie
 rung Next Generation Award - Bundesfinale GI- und BP-Wettbewerb\n\n10.11.2
 021 08:50 - 17:00\nEntrepreneurship Summit - Solutions for the SDGs\n08:50
  - 17:00\nUniCredit-Center Am Kaiserwasser\, Eiswerkstraße 20\, 1220 Wien
 \n09:00 - 14:00\ndigital\nProgramm\nEntrepreneurship Summit 2021\n\nAnmeld
 ung\nExcel-Datei für die Anmeldung für Lehrer*innen und Schüler*innen\n
 \n 	Für die Anmeldung zu Präsenzveranstaltungen bitte Namen und Zuordnun
 g vornehmen\, dann melden wir Lehrer*innen auch für das Seminar nach.\n 	
 Für die digitalen Veranstaltungen reicht der Name der Lehrerin bzw. des L
 ehrers und das Eintragen der Anzahl der Schüler*innen. Sie erhalten dann 
 einen Link\, diesen bitte mit den Schüler*innen teilen.\n\nBitte an johan
 nes.lindner@kphvie.ac.at senden.
CATEGORIES:Allgemein,Global Entrepreneurship Week,Seminar,Workshop
LOCATION:UniCredit Center am Kaiserwasser\, Eiswerkstraße 20\, Wien\, 1220
 \, Österreich
GEO:48.23392;16.425614
X-APPLE-STRUCTURED-LOCATION;VALUE=URI;X-ADDRESS=Eiswerkstraße 20\, Wien\, 
 1220\, Österreich;X-APPLE-RADIUS=100;X-TITLE=UniCredit Center am Kaiserwa
 sser:geo:48.23392,16.425614
END:VEVENT
BEGIN:VTIMEZONE
TZID:Europe/Berlin
X-LIC-LOCATION:Europe/Berlin
BEGIN:STANDARD
DTSTART:20211031T020000
TZOFFSETFROM:+0200
TZOFFSETTO:+0100
TZNAME:CET
END:STANDARD
END:VTIMEZONE
END:VCALENDAR