BEGIN:VCALENDAR
VERSION:2.0
PRODID:-//wp-events-plugin.com//7.2.3.1//EN
TZID:Europe/Berlin
X-WR-TIMEZONE:Europe/Berlin
BEGIN:VEVENT
UID:332@eesi-impulszentrum.at
DTSTART;TZID=Europe/Berlin:20201110T090000
DTEND;TZID=Europe/Berlin:20201110T170000
DTSTAMP:20200923T134256Z
URL:https://www.eesi-impulszentrum.at/events/ee-summit-2020/
SUMMARY:EE Summit 2020
DESCRIPTION:Summit 2020 Information\n\nAls Ermutigungstankstelle findet der
  Entrepreneurship Summit dieses Jahr digital statt. Mit Keynotes\, interak
 tiven Workshops &amp\; hochkarätigen Speakern.
CATEGORIES:Allgemein,Global Entrepreneurship Week,Seminar,Workshop
END:VEVENT
BEGIN:VTIMEZONE
TZID:Europe/Berlin
X-LIC-LOCATION:Europe/Berlin
BEGIN:STANDARD
DTSTART:20201025T020000
TZOFFSETFROM:+0200
TZOFFSETTO:+0100
TZNAME:CET
END:STANDARD
END:VTIMEZONE
END:VCALENDAR