BEGIN:VCALENDAR
VERSION:2.0
PRODID:-//wp-events-plugin.com//7.2.3.1//EN
TZID:Europe/Berlin
X-WR-TIMEZONE:Europe/Berlin
BEGIN:VEVENT
UID:358@eesi-impulszentrum.at
DTSTART;TZID=Europe/Berlin:20210413T140000
DTEND;TZID=Europe/Berlin:20210413T170000
DTSTAMP:20210406T140231Z
URL:https://www.eesi-impulszentrum.at/events/ee-basis-schilf-sz-gmuend/
SUMMARY:EE Basis-Schilf SZG
DESCRIPTION:Online-Basis-SchiLF fürs Schulzentrum Gmünd/NÖ.
CATEGORIES:SchilF
LOCATION:Schulzentrum Gmünd/NÖ\, Otto-Glöckel-Str. 6\, Gmünd\, 3950\, 
 Österreich
GEO:48.766125;14.979535
X-APPLE-STRUCTURED-LOCATION;VALUE=URI;X-ADDRESS=Otto-Glöckel-Str. 6\, Gmü
 nd\, 3950\, Österreich;X-APPLE-RADIUS=100;X-TITLE=Schulzentrum Gmünd/NÖ
 :geo:48.766125,14.979535
END:VEVENT
BEGIN:VTIMEZONE
TZID:Europe/Berlin
X-LIC-LOCATION:Europe/Berlin
BEGIN:DAYLIGHT
DTSTART:20210328T030000
TZOFFSETFROM:+0100
TZOFFSETTO:+0200
TZNAME:CEST
END:DAYLIGHT
END:VTIMEZONE
END:VCALENDAR