BEGIN:VCALENDAR
VERSION:2.0
PRODID:-//wp-events-plugin.com//7.2.3.1//EN
TZID:Europe/Berlin
X-WR-TIMEZONE:Europe/Berlin
BEGIN:VEVENT
UID:334@eesi-impulszentrum.at
DTSTART;TZID=Europe/Berlin:20201109T080000
DTEND;TZID=Europe/Berlin:20201109T130000
DTSTAMP:20201022T162241Z
URL:https://www.eesi-impulszentrum.at/events/demokratieplanspiel/
SUMMARY:Demokratieplanspiel
DESCRIPTION:Dieses Spiel wurde vor Jahren von  Schülerinnen und Schülern
  der BHAK Eisenerz gemeinsam mit Schülerinnen und Schülern aus Deutschla
 nd im Rahmen eines EU-Projektes unter Zusammenarbeit mit Beteiligung.at en
 twickelt und wird nun bei uns durchgespielt.\n\nUnd so funktioniert es: Di
 e Schüler sind Bewohner von vier fiktiven Ländern: Agricola\, Schokonia\
 , Finisterra und Kaukasien. Gegeben sind nur die geografische Lage und die
  wirtschaftliche Situation der einzelnen Länder. In einem ersten Schritt 
 werden die die Gebräuche\, Geschichte\, Landestracht\, Flagge und Feierta
 ge erfunden und eine Karte des Landes erstellt. Dann geht es auch schon lo
 s: Verschiedene Aktionskarten stellen den einzelnen Ländern Aufgaben\, di
 e dann gemeinsam im EU-Rat gelöst werden sollen. Jeder Spieler ist ein Mi
 nister und vertritt sein Land in einer Spielrunde. Entscheidungen werden e
 inheitlich oder mit Mehrheitsbeschluss im Rat gefällt. Dafür gibt es fü
 r jedes Land Demokratiebausteine. Am Ende entscheidet jedes Land\, ob es s
 eine Entscheidungen öfter in EU-Interesse oder im Sinne des Landesinteres
 ses gefällt hat. Es geht also nicht darum\, dass ein Land die meisten Dem
 okratiebausteine erhält\, sondern es wird deutlich gemacht\, wie Demokrat
 ie funktioniert und wie Entscheidungen zustande kommen.\n\nDas Spiel ist e
 ine fächerübergreifende Entrepreneurship-Challenge und der Beitrag der B
 HAK Eisenerz zur Entrepreneurship Week 2020.
CATEGORIES:Global Entrepreneurship Week
LOCATION:BHAK Eisenerz\, Hieflauerstraße 89\, Eisenerz\, 8790\, Österreic
 h
GEO:47.560405;14.864678
X-APPLE-STRUCTURED-LOCATION;VALUE=URI;X-ADDRESS=Hieflauerstraße 89\, Eisen
 erz\, 8790\, Österreich;X-APPLE-RADIUS=100;X-TITLE=BHAK Eisenerz:geo:47.5
 60405,14.864678
END:VEVENT
BEGIN:VTIMEZONE
TZID:Europe/Berlin
X-LIC-LOCATION:Europe/Berlin
BEGIN:STANDARD
DTSTART:20201025T020000
TZOFFSETFROM:+0200
TZOFFSETTO:+0100
TZNAME:CET
END:STANDARD
END:VTIMEZONE
END:VCALENDAR