BEGIN:VCALENDAR
VERSION:2.0
PRODID:-//wp-events-plugin.com//7.2.3.1//EN
TZID:Europe/Berlin
X-WR-TIMEZONE:Europe/Berlin
BEGIN:VEVENT
UID:106@eesi-impulszentrum.at
DTSTART;TZID=Europe/Berlin:20170601T160000
DTEND;TZID=Europe/Berlin:20170601T200000
DTSTAMP:20170526T080249Z
URL:https://www.eesi-impulszentrum.at/events/demokratie-mit-zukunft/
SUMMARY:Demokratie mit Zukunft
DESCRIPTION:Inhalt\nDie Filmtage vermitteln Einblicke in die Vielfalt und p
 ositive Kraft von Projekten vor Ort. Sie machen Mut\, neue Wege zu gehen u
 nd auszuprobieren. Geschichten von Menschen zeigen die Möglichkeiten von 
 Veränderungsprozessen auf: Komplementärwährungen\, lokale Wirtschaftssy
 steme\, regional-saisonaler Anbau von Gemüse bis hin zu kreativen Gemein
 schaften. Die Filme zeigen soziale Experimente mit Lösungen für eine na
 chhaltige und sinnerfüllte Zukunft und bewegen die Menschen nicht nur im
  Herzen\, sondern auch dazu\, Dinge selbst auszuprobieren und aktiv zu wer
 den. In den Filmgesprächen wird der Wandel in uns und um uns herum vertie
 ft.\nDie Filmreihe wird in Kooperation mit Südwind\, normale.at und der A
 K-Wien\, mit finanzieller\nUnterstützung der EU organisiert und ist verbu
 nden mit der Staatsmeisterschaft: SchülerInnen\ndebattieren „Demokratie
  mit Zukunft“. Details: www.solidaroekonomie.at.\n\n\nReferentInnen\nCha
 ngemaker\, Stefan Lamprechter\, Johannes Lindner\nAnmeldung\nfür LehrerIn
 nen bis eine Woche vor dem Termin bei claudia.muell@kphvie.ac.at\nund Sch
 ülerInnen bei johannes.lindner@kphvie.ac.at\nDemokratie mit Zukunft\nKPH 
 LV-Nr. 8740.035\nTeil der SuSY Sustainability and Solidarity Economy Filmt
 age 2017\nVeranstaltung des SS 2017\nOrt: TGA Wien\, Plößlgasse 13\, 104
 0 Wien\,Audi Max
CATEGORIES:Debattierclub,KPH Programm
LOCATION:TGA Wien\, Plößlgasse 13\, Wien\, 1040\, Österreich
GEO:48.1938497;16.37499379999997
X-APPLE-STRUCTURED-LOCATION;VALUE=URI;X-ADDRESS=Plößlgasse 13\, Wien\, 10
 40\, Österreich;X-APPLE-RADIUS=100;X-TITLE=TGA Wien:geo:48.1938497,16.374
 99379999997
END:VEVENT
BEGIN:VTIMEZONE
TZID:Europe/Berlin
X-LIC-LOCATION:Europe/Berlin
BEGIN:DAYLIGHT
DTSTART:20170326T030000
TZOFFSETFROM:+0100
TZOFFSETTO:+0200
TZNAME:CEST
END:DAYLIGHT
END:VTIMEZONE
END:VCALENDAR