BEGIN:VCALENDAR
VERSION:2.0
PRODID:-//wp-events-plugin.com//7.2.3.1//EN
TZID:Europe/Berlin
X-WR-TIMEZONE:Europe/Berlin
BEGIN:VEVENT
UID:352@eesi-impulszentrum.at
DTSTART;TZID=Europe/Berlin:20210923T100000
DTEND;TZID=Europe/Berlin:20210923T163000
DTSTAMP:20210227T103047Z
URL:https://www.eesi-impulszentrum.at/events/debattiertag-the-power-of-soc
 ial-media-influencers/
SUMMARY:Debattiertag: The Power of Social Media Influencers
DESCRIPTION:Impulsspeaker Stefan Apfl\, Journalist und GF Hashtag\n\nAnmeld
 ung claudia.muell@kphvie.ac.at (mit dem OK der Direktion)
CATEGORIES:Allgemein
END:VEVENT
BEGIN:VTIMEZONE
TZID:Europe/Berlin
X-LIC-LOCATION:Europe/Berlin
BEGIN:DAYLIGHT
DTSTART:20210328T030000
TZOFFSETFROM:+0100
TZOFFSETTO:+0200
TZNAME:CEST
END:DAYLIGHT
END:VTIMEZONE
END:VCALENDAR