BEGIN:VCALENDAR
VERSION:2.0
PRODID:-//wp-events-plugin.com//7.2.3.1//EN
TZID:Europe/Berlin
X-WR-TIMEZONE:Europe/Berlin
BEGIN:VEVENT
UID:353@eesi-impulszentrum.at
DTSTART;TZID=Europe/Berlin:20211020T153000
DTEND;TZID=Europe/Berlin:20211020T183000
DTSTAMP:20210227T103218Z
URL:https://www.eesi-impulszentrum.at/events/debattierclub-ideen-fuer-euro
 pa-debattieren-2/
SUMMARY:Debattierclub - Ideen für Europa debattieren
DESCRIPTION:Soll es einen Lockdown für den Klimawandel geben?\nImpulsspeak
 er Christa Schlager\, Leiterin Wirtschaftspolitik AK Wien\n\nAnmeldung cla
 udia.muell@kphvie.ac.at (mit dem OK der Direktion)
CATEGORIES:Allgemein
END:VEVENT
BEGIN:VTIMEZONE
TZID:Europe/Berlin
X-LIC-LOCATION:Europe/Berlin
BEGIN:DAYLIGHT
DTSTART:20210328T030000
TZOFFSETFROM:+0100
TZOFFSETTO:+0200
TZNAME:CEST
END:DAYLIGHT
END:VTIMEZONE
END:VCALENDAR