BEGIN:VCALENDAR
VERSION:2.0
PRODID:-//wp-events-plugin.com//7.2.3.1//EN
TZID:Europe/Berlin
X-WR-TIMEZONE:Europe/Berlin
BEGIN:VEVENT
UID:469@eesi-impulszentrum.at
DTSTART;TZID=Europe/Berlin:20240603T080000
DTEND;TZID=Europe/Berlin:20240603T170000
DTSTAMP:20240422T101542Z
URL:https://www.eesi-impulszentrum.at/events/debattier-staatsmeisterschaft
 -2/
SUMMARY:Debattier-Staatsmeisterschaft
DESCRIPTION:Ausschreibung und Programm:\nMisch dich ein Staatsmeisterschaft
  Schülerinnen debattieren\n\n&nbsp\;
CATEGORIES:Allgemein,Debattierclub
LOCATION:BIZ\, Theresianumgasse 16-18\, Wien\, 1040\, Österreich
GEO:48.192409;16.37562
X-APPLE-STRUCTURED-LOCATION;VALUE=URI;X-ADDRESS=Theresianumgasse 16-18\, Wi
 en\, 1040\, Österreich;X-APPLE-RADIUS=100;X-TITLE=BIZ:geo:48.192409,16.37
 562
END:VEVENT
BEGIN:VTIMEZONE
TZID:Europe/Berlin
X-LIC-LOCATION:Europe/Berlin
BEGIN:DAYLIGHT
DTSTART:20240331T030000
TZOFFSETFROM:+0100
TZOFFSETTO:+0200
TZNAME:CEST
END:DAYLIGHT
END:VTIMEZONE
END:VCALENDAR