BEGIN:VCALENDAR
VERSION:2.0
PRODID:-//wp-events-plugin.com//7.2.3.1//EN
TZID:Europe/Berlin
X-WR-TIMEZONE:Europe/Berlin
BEGIN:VEVENT
UID:449@eesi-impulszentrum.at
DTSTART;TZID=Europe/Berlin:20231110T163000
DTEND;TZID=Europe/Berlin:20231111T173000
DTSTAMP:20231022T170333Z
URL:https://www.eesi-impulszentrum.at/events/climathon-in-mistelbach-clima
 thon-weinviertel/
SUMMARY:Climathon in Mistelbach (Climathon Weinviertel)
DESCRIPTION:Der Climathon ist eine Veranstaltung\, die wir gerne auch "Idee
 nfindungsmarathon für's Klima" nennen. Insgesamt dauert die Veranstaltung
  24 Stunden. Zwischen Mitternacht und 7 Uhr morgens findet eine Nachtruhe 
 statt.\n\nHeuer kommen erstmals Schüler:innen und Erwachsene zusammen\, u
 m Lösungen für die lokalen Klima-Herausforderungen unserer Zeit zu entwe
 rfen.\n\nDie 24 Stunden sind in drei Arbeitsmodule eingeteilt. Die Teilneh
 mer:innen werden im ersten Modul spielerisch und kreativ an mögliche Lös
 ungsansätze herangeführt. Im zweiten werden die Ideen konkretisiert. Hie
 rbei stehen die Faktoren Nachhaltigkeit\, Machbarkeit und Umsetzbarkeit im
  Vordergrund.\n\nZum Abschluss präsentieren die Arbeitsgruppen ihre Ideen
  vor versammeltem Publikum. Die Abschlusspräsentation ist öffentlich zug
 änglich: Die Ideen und das Engagement für unser Klima wollen wir mit all
 en teilen.\n\nLink zur Anmeldung:\nhttps://www.eventbrite.at/e/climathon-i
 n-mistelbach-climathon-weinviertel-registration-731248593227?aff=oddtdtcre
 ator\nFür das leibliche Wohl wird gesorgt werden und wir freuen uns über
  viele Teilnehmer:innen!\n
ATTACH;FMTTYPE=image/jpeg:https://www.eesi-impulszentrum.at/wp-content/upl
 oads/2023/10/Climathon-Flyer-klein.jpg
CATEGORIES:Global Entrepreneurship Week,Workshop
LOCATION:BHAK/BHAS Mistelbach\, Brennerweg 8\, Mistelbach\, 2130\, Österre
 ich
GEO:48.571182;16.5653
X-APPLE-STRUCTURED-LOCATION;VALUE=URI;X-ADDRESS=Brennerweg 8\, Mistelbach\,
  2130\, Österreich;X-APPLE-RADIUS=100;X-TITLE=BHAK/BHAS Mistelbach:geo:48
 .571182,16.5653
END:VEVENT
BEGIN:VTIMEZONE
TZID:Europe/Berlin
X-LIC-LOCATION:Europe/Berlin
BEGIN:STANDARD
DTSTART:20231029T020000
TZOFFSETFROM:+0200
TZOFFSETTO:+0100
TZNAME:CET
END:STANDARD
END:VTIMEZONE
END:VCALENDAR