BEGIN:VCALENDAR
VERSION:2.0
PRODID:-//wp-events-plugin.com//7.2.3.1//EN
TZID:Europe/Berlin
X-WR-TIMEZONE:Europe/Berlin
BEGIN:VEVENT
UID:430@eesi-impulszentrum.at
DTSTART;TZID=Europe/Berlin:20230522T000000
DTEND;TZID=Europe/Berlin:20230526T000000
DTSTAMP:20230608T131859Z
URL:https://www.eesi-impulszentrum.at/events/climate-action-week/
SUMMARY:Climate Action Week
DESCRIPTION:Eine Woche im Zeichen des Klimaschutzes!
CATEGORIES:Global Entrepreneurship Week,YouthStart
LOCATION:VBS HAK/HAS Schönborngasse Wien\, Schönborngasse 3-5\, Wien\, 10
 80\, Österreich
GEO:48.210498;16.346954
X-APPLE-STRUCTURED-LOCATION;VALUE=URI;X-ADDRESS=Schönborngasse 3-5\, Wien\
 , 1080\, Österreich;X-APPLE-RADIUS=100;X-TITLE=VBS HAK/HAS Schönborngass
 e Wien:geo:48.210498,16.346954
END:VEVENT
BEGIN:VTIMEZONE
TZID:Europe/Berlin
X-LIC-LOCATION:Europe/Berlin
BEGIN:DAYLIGHT
DTSTART:20230326T030000
TZOFFSETFROM:+0100
TZOFFSETTO:+0200
TZNAME:CEST
END:DAYLIGHT
END:VTIMEZONE
END:VCALENDAR