BEGIN:VCALENDAR
VERSION:2.0
PRODID:-//wp-events-plugin.com//7.2.3.1//EN
TZID:Europe/Berlin
X-WR-TIMEZONE:Europe/Berlin
BEGIN:VEVENT
UID:336@eesi-impulszentrum.at
DTSTART;TZID=Europe/Berlin:20201106T150000
DTEND;TZID=Europe/Berlin:20201106T170000
DTSTAMP:20201102T132917Z
URL:https://www.eesi-impulszentrum.at/events/changemaker-workshop/
SUMMARY:Changemaker Workshop
DESCRIPTION:"Kennenlernen &amp\; Projektvorstellung"\n\n\n\nChangemaker Wor
 kshop für geladene Teams.\nZoom-Session
CATEGORIES:Allgemein
END:VEVENT
BEGIN:VTIMEZONE
TZID:Europe/Berlin
X-LIC-LOCATION:Europe/Berlin
BEGIN:STANDARD
DTSTART:20201025T020000
TZOFFSETFROM:+0200
TZOFFSETTO:+0100
TZNAME:CET
END:STANDARD
END:VTIMEZONE
END:VCALENDAR