BEGIN:VCALENDAR
VERSION:2.0
PRODID:-//wp-events-plugin.com//7.2.3.1//EN
TZID:Europe/Berlin
X-WR-TIMEZONE:Europe/Berlin
BEGIN:VEVENT
UID:340@eesi-impulszentrum.at
DTSTART;TZID=Europe/Berlin;VALUE=DATE:20210525
DTEND;TZID=Europe/Berlin;VALUE=DATE:20210526
DTSTAMP:20201102T133342Z
URL:https://www.eesi-impulszentrum.at/events/changemaker-workshop-5/
SUMMARY:Changemaker Workshop
DESCRIPTION:"Storytelling &amp\; Marketing"\n\n\n\nFür geladene Teams
CATEGORIES:Workshop
END:VEVENT
BEGIN:VTIMEZONE
TZID:Europe/Berlin
X-LIC-LOCATION:Europe/Berlin
BEGIN:DAYLIGHT
DTSTART:20210328T030000
TZOFFSETFROM:+0100
TZOFFSETTO:+0200
TZNAME:CEST
END:DAYLIGHT
END:VTIMEZONE
END:VCALENDAR