BEGIN:VCALENDAR
VERSION:2.0
PRODID:-//wp-events-plugin.com//7.2.3.1//EN
TZID:Europe/Berlin
X-WR-TIMEZONE:Europe/Berlin
BEGIN:VEVENT
UID:337@eesi-impulszentrum.at
DTSTART;TZID=Europe/Berlin:20201109T170000
DTEND;TZID=Europe/Berlin:20201109T190000
DTSTAMP:20201102T133018Z
URL:https://www.eesi-impulszentrum.at/events/changemaker-workshop-2/
SUMMARY:Changemaker Workshop
DESCRIPTION:"Road to Mars"\n\n\n\nFür geladene Teams.
CATEGORIES:Allgemein
END:VEVENT
BEGIN:VTIMEZONE
TZID:Europe/Berlin
X-LIC-LOCATION:Europe/Berlin
BEGIN:STANDARD
DTSTART:20201025T020000
TZOFFSETFROM:+0200
TZOFFSETTO:+0100
TZNAME:CET
END:STANDARD
END:VTIMEZONE
END:VCALENDAR