BEGIN:VCALENDAR
VERSION:2.0
PRODID:-//wp-events-plugin.com//7.2.3.1//EN
TZID:Europe/Berlin
X-WR-TIMEZONE:Europe/Berlin
BEGIN:VEVENT
UID:252@eesi-impulszentrum.at
DTSTART;TZID=Europe/Berlin:20181116T080000
DTEND;TZID=Europe/Berlin:20181116T113000
DTSTAMP:20181029T155627Z
URL:https://www.eesi-impulszentrum.at/events/business-talk-im-rahmen-der-g
 lobal-entrepreneurship-week/
SUMMARY:Business Talk im Rahmen der Global Entrepreneurship Week
DESCRIPTION:Business Talk im Rahmen der Entrepreneurship Week
CATEGORIES:Global Entrepreneurship Week
LOCATION:BHAK/BHAS Salzburg 1\, Johann-Brunauer-Straße 4\, Salzburg\, 5020
 \, Österreich
GEO:47.813637;13.034892
X-APPLE-STRUCTURED-LOCATION;VALUE=URI;X-ADDRESS=Johann-Brunauer-Straße 4\,
  Salzburg\, 5020\, Österreich;X-APPLE-RADIUS=100;X-TITLE=BHAK/BHAS Salzbu
 rg 1:geo:47.813637,13.034892
END:VEVENT
BEGIN:VTIMEZONE
TZID:Europe/Berlin
X-LIC-LOCATION:Europe/Berlin
BEGIN:STANDARD
DTSTART:20181028T020000
TZOFFSETFROM:+0200
TZOFFSETTO:+0100
TZNAME:CET
END:STANDARD
END:VTIMEZONE
END:VCALENDAR