BEGIN:VCALENDAR
VERSION:2.0
PRODID:-//wp-events-plugin.com//7.2.3.1//EN
TZID:Europe/Berlin
X-WR-TIMEZONE:Europe/Berlin
BEGIN:VEVENT
UID:446@eesi-impulszentrum.at
DTSTART;TZID=Europe/Berlin:20230524T082000
DTEND;TZID=Europe/Berlin:20230524T104500
DTSTAMP:20230927T125932Z
URL:https://www.eesi-impulszentrum.at/events/business-day-mit-absolventinn
 en-und-absolventen/
SUMMARY:Business Day mit Absolventinnen und Absolventen
DESCRIPTION:Eintreffen der Gäste in der Aula\, Kaffee und Kuchen mit Herrn
  Direktor.\n\nGruppenfoto mit allen Schülern.\n\nVorträge in den Klassen
 /je Jahrgang:\n1. Jahrgang: Theresa Bogner\, Raika Laa\n2. Jahrgang: Eva D
 ötzl\, aktiv &amp\; relax\n3. Jahrgang: Isabella Hauer\, Steuerberaterin\
 n4. Jahrgang: Philipp Uhl\, Versicherung\n\n&nbsp\;
CATEGORIES:Allgemein
LOCATION:BHAK/BHAS Laa/Thaya\, Anton-Bruckner-Straße 39\, Laa/Thaya\, 2136
 \, Österreich
GEO:48.723251;16.401614
X-APPLE-STRUCTURED-LOCATION;VALUE=URI;X-ADDRESS=Anton-Bruckner-Straße 39\,
  Laa/Thaya\, 2136\, Österreich;X-APPLE-RADIUS=100;X-TITLE=BHAK/BHAS Laa/T
 haya:geo:48.723251,16.401614
END:VEVENT
BEGIN:VTIMEZONE
TZID:Europe/Berlin
X-LIC-LOCATION:Europe/Berlin
BEGIN:DAYLIGHT
DTSTART:20230326T030000
TZOFFSETFROM:+0100
TZOFFSETTO:+0200
TZNAME:CEST
END:DAYLIGHT
END:VTIMEZONE
END:VCALENDAR