BEGIN:VCALENDAR
VERSION:2.0
PRODID:-//wp-events-plugin.com//7.2.3.1//EN
TZID:Europe/Berlin
X-WR-TIMEZONE:Europe/Berlin
BEGIN:VEVENT
UID:308@eesi-impulszentrum.at
DTSTART;TZID=Europe/Berlin:20191111T105000
DTEND;TZID=Europe/Berlin:20191113T124000
DTSTAMP:20191004T132406Z
URL:https://www.eesi-impulszentrum.at/events/business-class-mit-der-wkv-ju
 ngunternehmer-erzaehlen/
SUMMARY:Business Class (mit der WKV) - Jungunternehmer erzählen
DESCRIPTION:Im Rahmen der Global Entrepreneurship Week 2019 findet an der h
 ak has fk für alle 3. Jahrgänge (HAK) und 3. Klassen HAS) jeweils ein Vo
 rtrag (Präsentation) und eine anschließende Diskussion zum Thema kreativ
 e und erfolgreiche Geschäftsideen statt. Die Veranstaltung ist als ein Im
 puls zum Thema Entrepreneurship gedacht. Das Programm wird dankenswerter W
 eise von der Wirtschaftskammer Vorarlberg unterstützt.
CATEGORIES:Global Entrepreneurship Week
LOCATION:BHAK/BHAS Feldkirch\, Schillerstraße 7b\, Feldkirch\, 6800\, Öst
 erreich
GEO:47.235153;9.590878
X-APPLE-STRUCTURED-LOCATION;VALUE=URI;X-ADDRESS=Schillerstraße 7b\, Feldki
 rch\, 6800\, Österreich;X-APPLE-RADIUS=100;X-TITLE=BHAK/BHAS Feldkirch:ge
 o:47.235153,9.590878
END:VEVENT
BEGIN:VTIMEZONE
TZID:Europe/Berlin
X-LIC-LOCATION:Europe/Berlin
BEGIN:STANDARD
DTSTART:20191027T020000
TZOFFSETFROM:+0200
TZOFFSETTO:+0100
TZNAME:CET
END:STANDARD
END:VTIMEZONE
END:VCALENDAR