BEGIN:VCALENDAR
VERSION:2.0
PRODID:-//wp-events-plugin.com//7.2.3.1//EN
TZID:Europe/Berlin
X-WR-TIMEZONE:Europe/Berlin
BEGIN:VEVENT
UID:541@eesi-impulszentrum.at
DTSTART;TZID=Europe/Berlin:20251126T090000
DTEND;TZID=Europe/Berlin:20251126T123000
DTSTAMP:20251008T120900Z
URL:https://www.eesi-impulszentrum.at/events/business-brunch-fuer-alle-3-k
 lassen-2/
SUMMARY:Business Brunch für alle 3. Klassen
DESCRIPTION:Beim Business Brunch tauschen sich die Schüler:innen der 3. Ja
 hrgänge online mit fünf Start-ups bzw. Unternehmer:innen aus\, die ihre 
 Geschäftsideen vorstellen und Fragen beantworten. Die Veranstaltung biete
 t den Schüler:innen die Möglichkeit\, Unternehmertum hautnah zu erleben 
 und Einblicke in innovative Geschäftsideen zu gewinnen.
CATEGORIES:Global Entrepreneurship Week
END:VEVENT
BEGIN:VTIMEZONE
TZID:Europe/Berlin
X-LIC-LOCATION:Europe/Berlin
BEGIN:STANDARD
DTSTART:20251026T020000
TZOFFSETFROM:+0200
TZOFFSETTO:+0100
TZNAME:CET
END:STANDARD
END:VTIMEZONE
END:VCALENDAR