BEGIN:VCALENDAR
VERSION:2.0
PRODID:-//wp-events-plugin.com//7.2.3.1//EN
TZID:Europe/Berlin
X-WR-TIMEZONE:Europe/Berlin
BEGIN:VEVENT
UID:565@eesi-impulszentrum.at
DTSTART;TZID=Europe/Berlin:20241128T073000
DTEND;TZID=Europe/Berlin:20241128T130000
DTSTAMP:20260307T093930Z
URL:https://www.eesi-impulszentrum.at/events/business-breakfast/
SUMMARY:Business - Breakfast
DESCRIPTION:Schule trifft Wirtschaft beim Business Breakfast\nEin Speeddati
 ng mit interessanten Arbeitgebern aus der Region. Unternehmer stellen sich
  vor.
ATTACH;FMTTYPE=image/jpeg:https://www.eesi-impulszentrum.at/wp-content/upl
 oads/2026/02/864_0006.jpg
CATEGORIES:Global Entrepreneurship Week
END:VEVENT
BEGIN:VTIMEZONE
TZID:Europe/Berlin
X-LIC-LOCATION:Europe/Berlin
BEGIN:STANDARD
DTSTART:20241027T020000
TZOFFSETFROM:+0200
TZOFFSETTO:+0100
TZNAME:CET
END:STANDARD
END:VTIMEZONE
END:VCALENDAR