BEGIN:VCALENDAR
VERSION:2.0
PRODID:-//wp-events-plugin.com//7.2.3.1//EN
TZID:Europe/Berlin
X-WR-TIMEZONE:Europe/Berlin
BEGIN:VEVENT
UID:393@eesi-impulszentrum.at
DTSTART;TZID=Europe/Berlin:20221121T170000
DTEND;TZID=Europe/Berlin:20221121T200000
DTSTAMP:20221112T063603Z
URL:https://www.eesi-impulszentrum.at/events/bundesfinale-geschaeftsideen-
 businessplanwettbewerb/
SUMMARY:Bundesfinale Geschäftsideen-/Businessplanwettbewerb
DESCRIPTION:next generation Bundesfinale\n17:00 - 20:00 Uhr\nROOMZ Hotel\, 
 1020 Wien\, Rothschildplatz 2
CATEGORIES:Allgemein
LOCATION:Roomz Hotel Prater\, Rothschildplatz 2\, Wien\, 1020\, Österreich
GEO:48.222938;16.393457
X-APPLE-STRUCTURED-LOCATION;VALUE=URI;X-ADDRESS=Rothschildplatz 2\, Wien\, 
 1020\, Österreich;X-APPLE-RADIUS=100;X-TITLE=Roomz Hotel Prater:geo:48.22
 2938,16.393457
END:VEVENT
BEGIN:VTIMEZONE
TZID:Europe/Berlin
X-LIC-LOCATION:Europe/Berlin
BEGIN:STANDARD
DTSTART:20221030T020000
TZOFFSETFROM:+0200
TZOFFSETTO:+0100
TZNAME:CET
END:STANDARD
END:VTIMEZONE
END:VCALENDAR