BEGIN:VCALENDAR
VERSION:2.0
PRODID:-//wp-events-plugin.com//7.2.3.1//EN
TZID:Europe/Berlin
X-WR-TIMEZONE:Europe/Berlin
BEGIN:VEVENT
UID:230@eesi-impulszentrum.at
DTSTART;TZID=Europe/Berlin:20171211T190000
DTEND;TZID=Europe/Berlin:20171211T190000
DTSTAMP:20180308T140942Z
URL:https://www.eesi-impulszentrum.at/events/bewerbungstraining/
SUMMARY:Entrepreneurship Night 2017
DESCRIPTION:\n\nDie traditionelle Entrepreneurship Night an der Schumpeter 
 BHAK/BHAS Wien 13 fand diesmal mit den Pioneers of Change stat. Es war ein
 e gelungene Veranstaltung mit inspirierenden Workshops.\n\n\n\nLINK\n\n\n\
 n\n\n\n\n\n\n\n
LOCATION:Maygasse Business Academy BHAK/BHAS Wien 13\, Maygasse 43\, Wien\,
  1130\, Österreich
GEO:48.164486;16.281488
X-APPLE-STRUCTURED-LOCATION;VALUE=URI;X-ADDRESS=Maygasse 43\, Wien\, 1130\,
  Österreich;X-APPLE-RADIUS=100;X-TITLE=Maygasse Business Academy BHAK/BHA
 S Wien 13:geo:48.164486,16.281488
END:VEVENT
BEGIN:VTIMEZONE
TZID:Europe/Berlin
X-LIC-LOCATION:Europe/Berlin
BEGIN:STANDARD
DTSTART:20171029T020000
TZOFFSETFROM:+0200
TZOFFSETTO:+0100
TZNAME:CET
END:STANDARD
END:VTIMEZONE
END:VCALENDAR