BEGIN:VCALENDAR
VERSION:2.0
PRODID:-//wp-events-plugin.com//7.2.3.1//EN
TZID:Europe/Berlin
X-WR-TIMEZONE:Europe/Berlin
BEGIN:VEVENT
UID:335@eesi-impulszentrum.at
DTSTART;TZID=Europe/Berlin:20201009T074500
DTEND;TZID=Europe/Berlin:20201009T093000
DTSTAMP:20201022T163204Z
URL:https://www.eesi-impulszentrum.at/events/benimmkurs/
SUMMARY:Benimmkurs
DESCRIPTION:Das richtige Benehmen von angehenden Entrepreneuren in allen Le
 benslagen wird hier gelehrt und trainiert. Der Benimmkurs deckt verschiede
 nste Gebiete ab: Vom erfolgreichen Auftreten bei Bewerbungen bis zum Busin
 ess Meeting\, vom Knüpfen eines Krawattenknopfes bis zum Verhalten und Um
 gang mit Besteck sowie Gläsern beim mehrgängigen Geschäftsessen im Haub
 enlokal\, vom Businessdresscode bis zur Netiquette. Mit anderen Worten: Zu
 vorkommendes\, höfliches und erfolgreiches Auftreten kann man hier lernen
 .
CATEGORIES:Workshop
LOCATION:BHAK Eisenerz\, Hieflauerstraße 89\, Eisenerz\, 8790\, Österreic
 h
GEO:47.560405;14.864678
X-APPLE-STRUCTURED-LOCATION;VALUE=URI;X-ADDRESS=Hieflauerstraße 89\, Eisen
 erz\, 8790\, Österreich;X-APPLE-RADIUS=100;X-TITLE=BHAK Eisenerz:geo:47.5
 60405,14.864678
END:VEVENT
BEGIN:VTIMEZONE
TZID:Europe/Berlin
X-LIC-LOCATION:Europe/Berlin
BEGIN:DAYLIGHT
DTSTART:20200329T030000
TZOFFSETFROM:+0100
TZOFFSETTO:+0200
TZNAME:CEST
END:DAYLIGHT
END:VTIMEZONE
END:VCALENDAR